BEGIN:VCALENDAR
VERSION:2.0
PRODID:-//StreamRadar//Match Calendar//EN
CALSCALE:GREGORIAN
METHOD:PUBLISH
X-WR-CALNAME:Guangxi Hengchen vs Yanbian Longding
X-WR-TIMEZONE:America/New_York
BEGIN:VEVENT
UID:match-5589235@streamradar.soccer
SUMMARY:Guangxi Hengchen vs Yanbian Longding
DTSTAMP:20260422T060025Z
DTSTART;TZID=America/New_York:20260912T073000
DTEND;TZID=America/New_York:20260912T093000
LOCATION:Guangxi Sports Center
DESCRIPTION:Waar je Guangxi Hengchen vs Yanbian Longding in China League On
 e kunt kijken. Livestream en tv-gids.\nhttps://streamradar.soccer/nl/match/
 5589235/guangxi-hengchen-vs-yanbian-longding/
URL;VALUE=URI:https://streamradar.soccer/nl/match/5589235/guangxi-hengchen-
 vs-yanbian-longding/
STATUS:CONFIRMED
END:VEVENT
END:VCALENDAR
