BEGIN:VCALENDAR
VERSION:2.0
PRODID:-//StreamRadar//Match Calendar//EN
CALSCALE:GREGORIAN
METHOD:PUBLISH
X-WR-CALNAME:Atyrau vs Ordabasy
X-WR-TIMEZONE:America/New_York
BEGIN:VEVENT
UID:match-5582338@streamradar.soccer
SUMMARY:Atyrau vs Ordabasy
DTSTAMP:20260421T135925Z
DTSTART;TZID=America/New_York:20260917T090000
DTEND;TZID=America/New_York:20260917T110000
LOCATION:Munaishy Stadium
DESCRIPTION:Waar je Atyrau vs Ordabasy in Kazachse Premier League kunt kijk
 en. Livestream en tv-gids.\nhttps://streamradar.soccer/nl/match/5582338/aty
 rau-vs-ordabasy/
URL;VALUE=URI:https://streamradar.soccer/nl/match/5582338/atyrau-vs-ordabas
 y/
STATUS:CONFIRMED
END:VEVENT
END:VCALENDAR
