BEGIN:VCALENDAR
VERSION:2.0
PRODID:-//StreamRadar//Match Calendar//EN
CALSCALE:GREGORIAN
METHOD:PUBLISH
X-WR-CALNAME:Newell's Old Boys Res. vs Belgrano Res.
X-WR-TIMEZONE:America/New_York
BEGIN:VEVENT
UID:match-5567642@streamradar.soccer
SUMMARY:Newell's Old Boys Res. vs Belgrano Res.
DTSTAMP:20260422T115019Z
DTSTART;TZID=America/New_York:20260325T140000
DTEND;TZID=America/New_York:20260325T160000
DESCRIPTION:Waar je Newell's Old Boys Res. vs Belgrano Res. in Argentinië 
 - Reserve League kunt kijken. Livestream en tv-gids.\nhttps://streamradar.s
 occer/nl/match/5567642/newells-old-boys-res-vs-belgrano-res/
URL;VALUE=URI:https://streamradar.soccer/nl/match/5567642/newells-old-boys-
 res-vs-belgrano-res/
STATUS:CONFIRMED
END:VEVENT
END:VCALENDAR
