BEGIN:VCALENDAR
VERSION:2.0
PRODID:-//StreamRadar//Match Calendar//EN
CALSCALE:GREGORIAN
METHOD:PUBLISH
X-WR-CALNAME:Karlskrona vs Oskarshamns AIK
X-WR-TIMEZONE:America/New_York
BEGIN:VEVENT
UID:match-5566719@streamradar.soccer
SUMMARY:Karlskrona vs Oskarshamns AIK
DTSTAMP:20260422T030912Z
DTSTART;TZID=America/New_York:20260919T080000
DTEND;TZID=America/New_York:20260919T100000
DESCRIPTION:Waar je Karlskrona vs Oskarshamns AIK in Zweden - Division 2 ku
 nt kijken. Livestream en tv-gids.\nhttps://streamradar.soccer/nl/match/5566
 719/karlskrona-vs-oskarshamns-aik/
URL;VALUE=URI:https://streamradar.soccer/nl/match/5566719/karlskrona-vs-osk
 arshamns-aik/
STATUS:CONFIRMED
END:VEVENT
END:VCALENDAR
