BEGIN:VCALENDAR
VERSION:2.0
PRODID:-//StreamRadar//Match Calendar//EN
CALSCALE:GREGORIAN
METHOD:PUBLISH
X-WR-CALNAME:Berga vs Karlshamn
X-WR-TIMEZONE:America/New_York
BEGIN:VEVENT
UID:match-5566718@streamradar.soccer
SUMMARY:Berga vs Karlshamn
DTSTAMP:20260422T181602Z
DTSTART;TZID=America/New_York:20260919T070000
DTEND;TZID=America/New_York:20260919T090000
DESCRIPTION:Waar je Berga vs Karlshamn in Zweden - Division 2 kunt kijken. 
 Livestream en tv-gids.\nhttps://streamradar.soccer/nl/match/5566718/berga-v
 s-karlshamn/
URL;VALUE=URI:https://streamradar.soccer/nl/match/5566718/berga-vs-karlsham
 n/
STATUS:CONFIRMED
END:VEVENT
END:VCALENDAR
