BEGIN:VCALENDAR
VERSION:2.0
PRODID:-//StreamRadar//Match Calendar//EN
CALSCALE:GREGORIAN
METHOD:PUBLISH
X-WR-CALNAME:Korsnäs vs Bollstanäs
X-WR-TIMEZONE:America/New_York
BEGIN:VEVENT
UID:match-5566390@streamradar.soccer
SUMMARY:Korsnäs vs Bollstanäs
DTSTAMP:20260422T082312Z
DTSTART;TZID=America/New_York:20260328T110000
DTEND;TZID=America/New_York:20260328T130000
LOCATION:Lindvallen (Falun)
DESCRIPTION:Waar je Korsnäs vs Bollstanäs in Zweden - Division 2 kunt kij
 ken. Livestream en tv-gids.\nhttps://streamradar.soccer/nl/match/5566390/ko
 rsnas-vs-bollstanas/
URL;VALUE=URI:https://streamradar.soccer/nl/match/5566390/korsnas-vs-bollst
 anas/
STATUS:CONFIRMED
END:VEVENT
END:VCALENDAR
