BEGIN:VCALENDAR
VERSION:2.0
PRODID:-//StreamRadar//Match Calendar//EN
CALSCALE:GREGORIAN
METHOD:PUBLISH
X-WR-CALNAME:Yongin City vs Gyeongnam
X-WR-TIMEZONE:America/New_York
BEGIN:VEVENT
UID:match-5563243@streamradar.soccer
SUMMARY:Yongin City vs Gyeongnam
DTSTAMP:20260425T174340Z
DTSTART;TZID=America/New_York:20260920T033000
DTEND;TZID=America/New_York:20260920T053000
DESCRIPTION:Waar je Yongin City vs Gyeongnam in Zuid-Korea - K League 2 kun
 t kijken. Livestream en tv-gids.\nhttps://streamradar.soccer/nl/match/55632
 43/yongin-city-vs-gyeongnam/
URL;VALUE=URI:https://streamradar.soccer/nl/match/5563243/yongin-city-vs-gy
 eongnam/
STATUS:CONFIRMED
END:VEVENT
END:VCALENDAR
