BEGIN:VCALENDAR
VERSION:2.0
PRODID:-//StreamRadar//Match Calendar//EN
CALSCALE:GREGORIAN
METHOD:PUBLISH
X-WR-CALNAME:Gimpo Citizen vs Busan I'Park
X-WR-TIMEZONE:America/New_York
BEGIN:VEVENT
UID:match-5563240@streamradar.soccer
SUMMARY:Gimpo Citizen vs Busan I'Park
DTSTAMP:20260422T043255Z
DTSTART;TZID=America/New_York:20260919T060000
DTEND;TZID=America/New_York:20260919T080000
LOCATION:Gimpo Salter Soccer Field
DESCRIPTION:Waar je Gimpo Citizen vs Busan I'Park in Zuid-Korea - K League 
 2 kunt kijken. Livestream en tv-gids.\nhttps://streamradar.soccer/nl/match/
 5563240/gimpo-citizen-vs-busan-ipark/
URL;VALUE=URI:https://streamradar.soccer/nl/match/5563240/gimpo-citizen-vs-
 busan-ipark/
STATUS:CONFIRMED
END:VEVENT
END:VCALENDAR
