BEGIN:VCALENDAR
VERSION:2.0
PRODID:-//StreamRadar//Match Calendar//EN
CALSCALE:GREGORIAN
METHOD:PUBLISH
X-WR-CALNAME:Teutonia vs Türk Gücü Friedberg
X-WR-TIMEZONE:America/New_York
BEGIN:VEVENT
UID:match-5562529@streamradar.soccer
SUMMARY:Teutonia vs Türk Gücü Friedberg
DTSTAMP:20260423T140802Z
DTSTART;TZID=America/New_York:20260224T133000
DTEND;TZID=America/New_York:20260224T153000
LOCATION:Waldstadion Gießen (Gießen)
DESCRIPTION:Waar je Teutonia vs Türk Gücü Friedberg in Duitsland - Oberl
 iga kunt kijken. Livestream en tv-gids.\nhttps://streamradar.soccer/nl/matc
 h/5562529/teutonia-vs-t-rk-g-c-friedberg/
URL;VALUE=URI:https://streamradar.soccer/nl/match/5562529/teutonia-vs-t-rk-
 g-c-friedberg/
STATUS:CONFIRMED
END:VEVENT
END:VCALENDAR
