BEGIN:VCALENDAR
VERSION:2.0
PRODID:-//StreamRadar//Match Calendar//EN
CALSCALE:GREGORIAN
METHOD:PUBLISH
X-WR-CALNAME:Mash'al vs Pakhtakor
X-WR-TIMEZONE:America/New_York
BEGIN:VEVENT
UID:match-5561479@streamradar.soccer
SUMMARY:Mash'al vs Pakhtakor
DTSTAMP:20260424T054016Z
DTSTART;TZID=America/New_York:20260918T110000
DTEND;TZID=America/New_York:20260918T130000
DESCRIPTION:Waar je Mash'al vs Pakhtakor in Uzbekistan Super League kunt ki
 jken. Livestream en tv-gids.\nhttps://streamradar.soccer/nl/match/5561479/m
 ashal-vs-pakhtakor/
URL;VALUE=URI:https://streamradar.soccer/nl/match/5561479/mashal-vs-pakhtak
 or/
STATUS:CONFIRMED
END:VEVENT
END:VCALENDAR
