BEGIN:VCALENDAR
VERSION:2.0
PRODID:-//StreamRadar//Match Calendar//EN
CALSCALE:GREGORIAN
METHOD:PUBLISH
X-WR-CALNAME:Xorazm vs Sogdiana
X-WR-TIMEZONE:America/New_York
BEGIN:VEVENT
UID:match-5561474@streamradar.soccer
SUMMARY:Xorazm vs Sogdiana
DTSTAMP:20260422T045714Z
DTSTART;TZID=America/New_York:20260909T110000
DTEND;TZID=America/New_York:20260909T130000
DESCRIPTION:Waar je Xorazm vs Sogdiana in Uzbekistan Super League kunt kijk
 en. Livestream en tv-gids.\nhttps://streamradar.soccer/nl/match/5561474/xor
 azm-vs-sogdiana/
URL;VALUE=URI:https://streamradar.soccer/nl/match/5561474/xorazm-vs-sogdian
 a/
STATUS:CONFIRMED
END:VEVENT
END:VCALENDAR
