BEGIN:VCALENDAR
VERSION:2.0
PRODID:-//StreamRadar//Match Calendar//EN
CALSCALE:GREGORIAN
METHOD:PUBLISH
X-WR-CALNAME:Nasaf vs Bunyodkor
X-WR-TIMEZONE:America/New_York
BEGIN:VEVENT
UID:match-5561471@streamradar.soccer
SUMMARY:Nasaf vs Bunyodkor
DTSTAMP:20260421T211053Z
DTSTART;TZID=America/New_York:20260909T110000
DTEND;TZID=America/New_York:20260909T130000
LOCATION:Markaziy Stadium
DESCRIPTION:Waar je Nasaf vs Bunyodkor in Uzbekistan Super League kunt kijk
 en. Livestream en tv-gids.\nhttps://streamradar.soccer/nl/match/5561471/nas
 af-vs-bunyodkor/
URL;VALUE=URI:https://streamradar.soccer/nl/match/5561471/nasaf-vs-bunyodko
 r/
STATUS:CONFIRMED
END:VEVENT
END:VCALENDAR
