BEGIN:VCALENDAR
VERSION:2.0
PRODID:-//StreamRadar//Match Calendar//EN
CALSCALE:GREGORIAN
METHOD:PUBLISH
X-WR-CALNAME:UAI Urquiza vs Argentino Merlo
X-WR-TIMEZONE:America/New_York
BEGIN:VEVENT
UID:match-5560742@streamradar.soccer
SUMMARY:UAI Urquiza vs Argentino Merlo
DTSTAMP:20260421T104522Z
DTSTART;TZID=America/New_York:20260905T160000
DTEND;TZID=America/New_York:20260905T180000
LOCATION:Monumental de Villa Lynch
DESCRIPTION:Waar je UAI Urquiza vs Argentino Merlo in Argentinië - Primera
  B Metropolitana kunt kijken. Livestream en tv-gids.\nhttps://streamradar.s
 occer/nl/match/5560742/uai-urquiza-vs-argentino-merlo/
URL;VALUE=URI:https://streamradar.soccer/nl/match/5560742/uai-urquiza-vs-ar
 gentino-merlo/
STATUS:CONFIRMED
END:VEVENT
END:VCALENDAR
