BEGIN:VCALENDAR
VERSION:2.0
PRODID:-//StreamRadar//Match Calendar//EN
CALSCALE:GREGORIAN
METHOD:PUBLISH
X-WR-CALNAME:Beijing Guoan vs Shandong Taishan
X-WR-TIMEZONE:America/New_York
BEGIN:VEVENT
UID:match-5560324@streamradar.soccer
SUMMARY:Beijing Guoan vs Shandong Taishan
DTSTAMP:20260421T212904Z
DTSTART;TZID=America/New_York:20260704T073500
DTEND;TZID=America/New_York:20260704T093500
DESCRIPTION:Waar je Beijing Guoan vs Shandong Taishan in China - Chinese Su
 per League kunt kijken. Livestream en tv-gids.\nhttps://streamradar.soccer/
 nl/match/5560324/beijing-guoan-vs-shandong-taishan/
URL;VALUE=URI:https://streamradar.soccer/nl/match/5560324/beijing-guoan-vs-
 shandong-taishan/
STATUS:CONFIRMED
END:VEVENT
END:VCALENDAR
