BEGIN:VCALENDAR
VERSION:2.0
PRODID:-//StreamRadar//Match Calendar//EN
CALSCALE:GREGORIAN
METHOD:PUBLISH
X-WR-CALNAME:All Boys vs Colón
X-WR-TIMEZONE:America/New_York
BEGIN:VEVENT
UID:match-5560108@streamradar.soccer
SUMMARY:All Boys vs Colón
DTSTAMP:20260422T033648Z
DTSTART;TZID=America/New_York:20260919T160000
DTEND;TZID=America/New_York:20260919T180000
LOCATION:Islas Malvinas Stadium
DESCRIPTION:Waar je All Boys vs Colón in Argentinië - Primera Nacional ku
 nt kijken. Livestream en tv-gids.\nhttps://streamradar.soccer/nl/match/5560
 108/all-boys-vs-colon/
URL;VALUE=URI:https://streamradar.soccer/nl/match/5560108/all-boys-vs-colon
 /
STATUS:CONFIRMED
END:VEVENT
END:VCALENDAR
