BEGIN:VCALENDAR
VERSION:2.0
PRODID:-//StreamRadar//Match Calendar//EN
CALSCALE:GREGORIAN
METHOD:PUBLISH
X-WR-CALNAME:Chacarita Juniors vs Quilmes
X-WR-TIMEZONE:America/New_York
BEGIN:VEVENT
UID:match-5560094@streamradar.soccer
SUMMARY:Chacarita Juniors vs Quilmes
DTSTAMP:20260421T135903Z
DTSTART;TZID=America/New_York:20260912T160000
DTEND;TZID=America/New_York:20260912T180000
LOCATION:Estadio de Chacarita Juniors
DESCRIPTION:Waar je Chacarita Juniors vs Quilmes in Argentinië - Primera N
 acional kunt kijken. Livestream en tv-gids.\nhttps://streamradar.soccer/nl/
 match/5560094/chacarita-juniors-vs-quilmes/
URL;VALUE=URI:https://streamradar.soccer/nl/match/5560094/chacarita-juniors
 -vs-quilmes/
STATUS:CONFIRMED
END:VEVENT
END:VCALENDAR
