BEGIN:VCALENDAR
VERSION:2.0
PRODID:-//StreamRadar//Match Calendar//EN
CALSCALE:GREGORIAN
METHOD:PUBLISH
X-WR-CALNAME:Os Marialvas vs Marinhense
X-WR-TIMEZONE:America/New_York
BEGIN:VEVENT
UID:match-5558147@streamradar.soccer
SUMMARY:Os Marialvas vs Marinhense
DTSTAMP:20260423T001835Z
DTSTART;TZID=America/New_York:20260311T140000
DTEND;TZID=America/New_York:20260311T160000
LOCATION:Estadio Municipal de Cantanhede
DESCRIPTION:Waar je Os Marialvas vs Marinhense in Portugal - Campeonato de 
 Portugal kunt kijken. Livestream en tv-gids.\nhttps://streamradar.soccer/nl
 /match/5558147/os-marialvas-vs-marinhense/
URL;VALUE=URI:https://streamradar.soccer/nl/match/5558147/os-marialvas-vs-m
 arinhense/
STATUS:CONFIRMED
END:VEVENT
END:VCALENDAR
