BEGIN:VCALENDAR
VERSION:2.0
PRODID:-//StreamRadar//Match Calendar//EN
CALSCALE:GREGORIAN
METHOD:PUBLISH
X-WR-CALNAME:Gangwon vs Machida Zelvia
X-WR-TIMEZONE:America/New_York
BEGIN:VEVENT
UID:match-5557980@streamradar.soccer
SUMMARY:Gangwon vs Machida Zelvia
DTSTAMP:20260423T070408Z
DTSTART;TZID=America/New_York:20260303T050000
DTEND;TZID=America/New_York:20260303T070000
LOCATION:Chuncheon Songam Stadium
DESCRIPTION:Waar je Gangwon vs Machida Zelvia in AFC Champions League Elite
  kunt kijken. Livestream en tv-gids.\nhttps://streamradar.soccer/nl/match/5
 557980/gangwon-vs-machida-zelvia/
URL;VALUE=URI:https://streamradar.soccer/nl/match/5557980/gangwon-vs-machid
 a-zelvia/
STATUS:CONFIRMED
END:VEVENT
END:VCALENDAR
