BEGIN:VCALENDAR
VERSION:2.0
PRODID:-//StreamRadar//Match Calendar//EN
CALSCALE:GREGORIAN
METHOD:PUBLISH
X-WR-CALNAME:Laçi vs Luftëtari Gjirokastër
X-WR-TIMEZONE:America/New_York
BEGIN:VEVENT
UID:match-5556777@streamradar.soccer
SUMMARY:Laçi vs Luftëtari Gjirokastër
DTSTAMP:20260423T160317Z
DTSTART;TZID=America/New_York:20260221T073000
DTEND;TZID=America/New_York:20260221T093000
LOCATION:Stadiumi Laçi (Laç)
DESCRIPTION:Waar je Laçi vs Luftëtari Gjirokastër in Albanië - First Di
 vision kunt kijken. Livestream en tv-gids.\nhttps://streamradar.soccer/nl/m
 atch/5556777/laci-vs-luftetari-gjirokaster/
URL;VALUE=URI:https://streamradar.soccer/nl/match/5556777/laci-vs-luftetari
 -gjirokaster/
STATUS:CONFIRMED
END:VEVENT
END:VCALENDAR
