BEGIN:VCALENDAR
VERSION:2.0
PRODID:-//StreamRadar//Match Calendar//EN
CALSCALE:GREGORIAN
METHOD:PUBLISH
X-WR-CALNAME:Hangzhou vs Astana
X-WR-TIMEZONE:America/New_York
BEGIN:VEVENT
UID:match-5551778@streamradar.soccer
SUMMARY:Hangzhou vs Astana
DTSTAMP:20260423T223607Z
DTSTART;TZID=America/New_York:20260213T080000
DTEND;TZID=America/New_York:20260213T100000
LOCATION:Huzhou Olympic Sports Center (Huzhou)
DESCRIPTION:Waar je Hangzhou vs Astana in Vriendschappelijke wedstrijd (clu
 bniveau) kunt kijken. Livestream en tv-gids.\nhttps://streamradar.soccer/nl
 /match/5551778/hangzhou-vs-astana/
URL;VALUE=URI:https://streamradar.soccer/nl/match/5551778/hangzhou-vs-astan
 a/
STATUS:CONFIRMED
END:VEVENT
END:VCALENDAR
