BEGIN:VCALENDAR
VERSION:2.0
PRODID:-//StreamRadar//Match Calendar//EN
CALSCALE:GREGORIAN
METHOD:PUBLISH
X-WR-CALNAME:Al Karkh vs Al Talaba
X-WR-TIMEZONE:America/New_York
BEGIN:VEVENT
UID:match-5546406@streamradar.soccer
SUMMARY:Al Karkh vs Al Talaba
DTSTAMP:20260423T211907Z
DTSTART;TZID=America/New_York:20260213T093000
DTEND;TZID=America/New_York:20260213T113000
LOCATION:Al-Karkh Stadium (Baġdād (Bagdad))
DESCRIPTION:Waar je Al Karkh vs Al Talaba in Iraqi Premier League kunt kijk
 en. Livestream en tv-gids.\nhttps://streamradar.soccer/nl/match/5546406/al-
 karkh-vs-al-talaba/
URL;VALUE=URI:https://streamradar.soccer/nl/match/5546406/al-karkh-vs-al-ta
 laba/
STATUS:CONFIRMED
END:VEVENT
END:VCALENDAR
