BEGIN:VCALENDAR
VERSION:2.0
PRODID:-//StreamRadar//Match Calendar//EN
CALSCALE:GREGORIAN
METHOD:PUBLISH
X-WR-CALNAME:Murata vs Juvenes / Dogana
X-WR-TIMEZONE:America/New_York
BEGIN:VEVENT
UID:match-5541285@streamradar.soccer
SUMMARY:Murata vs Juvenes / Dogana
DTSTAMP:20260424T011041Z
DTSTART;TZID=America/New_York:20260210T151500
DTEND;TZID=America/New_York:20260210T171500
LOCATION:Stadio Fonte Dell'Ovo (Città di San Marino)
DESCRIPTION:Waar je Murata vs Juvenes / Dogana in San Marino - Campionato S
 anmarinese di Calcio kunt kijken. Livestream en tv-gids.\nhttps://streamrad
 ar.soccer/nl/match/5541285/murata-vs-juvenes-dogana/
URL;VALUE=URI:https://streamradar.soccer/nl/match/5541285/murata-vs-juvenes
 -dogana/
STATUS:CONFIRMED
END:VEVENT
END:VCALENDAR
