BEGIN:VCALENDAR
VERSION:2.0
PRODID:-//StreamRadar//Match Calendar//EN
CALSCALE:GREGORIAN
METHOD:PUBLISH
X-WR-CALNAME:Skövde AIK vs Trollhättan
X-WR-TIMEZONE:America/New_York
BEGIN:VEVENT
UID:match-5534755@streamradar.soccer
SUMMARY:Skövde AIK vs Trollhättan
DTSTAMP:20260421T154041Z
DTSTART;TZID=America/New_York:20260917T130000
DTEND;TZID=America/New_York:20260917T150000
DESCRIPTION:Waar je Skövde AIK vs Trollhättan in Zweden - Ettan kunt kijk
 en. Livestream en tv-gids.\nhttps://streamradar.soccer/nl/match/5534755/sko
 vde-aik-vs-trollhattan/
URL;VALUE=URI:https://streamradar.soccer/nl/match/5534755/skovde-aik-vs-tro
 llhattan/
STATUS:CONFIRMED
END:VEVENT
END:VCALENDAR
