BEGIN:VCALENDAR
VERSION:2.0
PRODID:-//StreamRadar//Match Calendar//EN
CALSCALE:GREGORIAN
METHOD:PUBLISH
X-WR-CALNAME:Arlanda vs Hammarby Talang
X-WR-TIMEZONE:America/New_York
BEGIN:VEVENT
UID:match-5534518@streamradar.soccer
SUMMARY:Arlanda vs Hammarby Talang
DTSTAMP:20260423T102016Z
DTSTART;TZID=America/New_York:20260920T070000
DTEND;TZID=America/New_York:20260920T090000
LOCATION:Midgardsvallen
DESCRIPTION:Waar je Arlanda vs Hammarby Talang in Zweden - Ettan kunt kijke
 n. Livestream en tv-gids.\nhttps://streamradar.soccer/nl/match/5534518/arla
 nda-vs-hammarby-talang/
URL;VALUE=URI:https://streamradar.soccer/nl/match/5534518/arlanda-vs-hammar
 by-talang/
STATUS:CONFIRMED
END:VEVENT
END:VCALENDAR
