BEGIN:VCALENDAR
VERSION:2.0
PRODID:-//StreamRadar//Match Calendar//EN
CALSCALE:GREGORIAN
METHOD:PUBLISH
X-WR-CALNAME:Deportivo Muñiz vs Leandro Nicéforo Alem
X-WR-TIMEZONE:America/New_York
BEGIN:VEVENT
UID:match-5534229@streamradar.soccer
SUMMARY:Deportivo Muñiz vs Leandro Nicéforo Alem
DTSTAMP:20260422T045713Z
DTSTART;TZID=America/New_York:20260912T160000
DTEND;TZID=America/New_York:20260912T180000
DESCRIPTION:Waar je Deportivo Muñiz vs Leandro Nicéforo Alem in Argentini
 ë - Primera C Metropolitana kunt kijken. Livestream en tv-gids.\nhttps://s
 treamradar.soccer/nl/match/5534229/deportivo-muniz-vs-leandro-niceforo-alem
 /
URL;VALUE=URI:https://streamradar.soccer/nl/match/5534229/deportivo-muniz-v
 s-leandro-niceforo-alem/
STATUS:CONFIRMED
END:VEVENT
END:VCALENDAR
