BEGIN:VCALENDAR
VERSION:2.0
PRODID:-//StreamRadar//Match Calendar//EN
CALSCALE:GREGORIAN
METHOD:PUBLISH
X-WR-CALNAME:Meshakhte vs Rustavi
X-WR-TIMEZONE:America/New_York
BEGIN:VEVENT
UID:match-5532400@streamradar.soccer
SUMMARY:Meshakhte vs Rustavi
DTSTAMP:20260422T045549Z
DTSTART;TZID=America/New_York:20260913T090000
DTEND;TZID=America/New_York:20260913T110000
LOCATION:Agrano Vachadze Stadium
DESCRIPTION:Waar je Meshakhte vs Rustavi in Georgië - Erovnuli Liga kunt k
 ijken. Livestream en tv-gids.\nhttps://streamradar.soccer/nl/match/5532400/
 meshakhte-vs-rustavi/
URL;VALUE=URI:https://streamradar.soccer/nl/match/5532400/meshakhte-vs-rust
 avi/
STATUS:CONFIRMED
END:VEVENT
END:VCALENDAR
