BEGIN:VCALENDAR
VERSION:2.0
PRODID:-//StreamRadar//Match Calendar//EN
CALSCALE:GREGORIAN
METHOD:PUBLISH
X-WR-CALNAME:Östersunds FK vs Brage
X-WR-TIMEZONE:America/New_York
BEGIN:VEVENT
UID:match-5531895@streamradar.soccer
SUMMARY:Östersunds FK vs Brage
DTSTAMP:20260422T000437Z
DTSTART;TZID=America/New_York:20260909T090000
DTEND;TZID=America/New_York:20260909T110000
LOCATION:Jamtkraft Arena
DESCRIPTION:Waar je Östersunds FK vs Brage in Zweden - Superettan kunt kij
 ken. Livestream en tv-gids.\nhttps://streamradar.soccer/nl/match/5531895/os
 tersunds-fk-vs-brage/
URL;VALUE=URI:https://streamradar.soccer/nl/match/5531895/ostersunds-fk-vs-
 brage/
STATUS:CONFIRMED
END:VEVENT
END:VCALENDAR
