BEGIN:VCALENDAR
VERSION:2.0
PRODID:-//StreamRadar//Match Calendar//EN
CALSCALE:GREGORIAN
METHOD:PUBLISH
X-WR-CALNAME:Portland Hearts of Pine vs Alta
X-WR-TIMEZONE:America/New_York
BEGIN:VEVENT
UID:match-5509595@streamradar.soccer
SUMMARY:Portland Hearts of Pine vs Alta
DTSTAMP:20260421T093205Z
DTSTART;TZID=America/New_York:20260913T180000
DTEND;TZID=America/New_York:20260913T200000
LOCATION:Fitzpatrick Stadium
DESCRIPTION:Waar je Portland Hearts Of Pine vs Alta in Verenigde Staten - U
 SL League One kunt kijken. Livestream en tv-gids.\nhttps://streamradar.socc
 er/nl/match/5509595/portland-hearts-of-pine-vs-alta/
URL;VALUE=URI:https://streamradar.soccer/nl/match/5509595/portland-hearts-o
 f-pine-vs-alta/
STATUS:CONFIRMED
END:VEVENT
END:VCALENDAR
