BEGIN:VCALENDAR
VERSION:2.0
PRODID:-//StreamRadar//Match Calendar//EN
CALSCALE:GREGORIAN
METHOD:PUBLISH
X-WR-CALNAME:Wexford vs Cobh Ramblers
X-WR-TIMEZONE:America/New_York
BEGIN:VEVENT
UID:match-5507401@streamradar.soccer
SUMMARY:Wexford vs Cobh Ramblers
DTSTAMP:20260425T162438Z
DTSTART;TZID=America/New_York:20260918T144500
DTEND;TZID=America/New_York:20260918T164500
LOCATION:Ferrycarrig Park
DESCRIPTION:Waar je Wexford vs Cobh Ramblers in League of Ireland Premier D
 ivision kunt kijken. Livestream en tv-gids.\nhttps://streamradar.soccer/nl/
 match/5507401/wexford-vs-cobh-ramblers/
URL;VALUE=URI:https://streamradar.soccer/nl/match/5507401/wexford-vs-cobh-r
 amblers/
STATUS:CONFIRMED
END:VEVENT
END:VCALENDAR
