BEGIN:VCALENDAR
VERSION:2.0
PRODID:-//StreamRadar//Match Calendar//EN
CALSCALE:GREGORIAN
METHOD:PUBLISH
X-WR-CALNAME:Cork City vs UCD
X-WR-TIMEZONE:America/New_York
BEGIN:VEVENT
UID:match-5507399@streamradar.soccer
SUMMARY:Cork City vs UCD
DTSTAMP:20260425T162331Z
DTSTART;TZID=America/New_York:20260918T144500
DTEND;TZID=America/New_York:20260918T164500
LOCATION:Turners Cross
DESCRIPTION:Waar je Cork City vs UCD in League of Ireland Premier Division 
 kunt kijken. Livestream en tv-gids.\nhttps://streamradar.soccer/nl/match/55
 07399/cork-city-vs-ucd/
URL;VALUE=URI:https://streamradar.soccer/nl/match/5507399/cork-city-vs-ucd/
STATUS:CONFIRMED
END:VEVENT
END:VCALENDAR
