BEGIN:VCALENDAR
VERSION:2.0
PRODID:-//StreamRadar//Match Calendar//EN
CALSCALE:GREGORIAN
METHOD:PUBLISH
X-WR-CALNAME:Bray Wanderers vs Treaty United
X-WR-TIMEZONE:America/New_York
BEGIN:VEVENT
UID:match-5507398@streamradar.soccer
SUMMARY:Bray Wanderers vs Treaty United
DTSTAMP:20260425T162759Z
DTSTART;TZID=America/New_York:20260918T144500
DTEND;TZID=America/New_York:20260918T164500
LOCATION:Carlisle Grounds
DESCRIPTION:Waar je Bray Wanderers vs Treaty United in League of Ireland Pr
 emier Division kunt kijken. Livestream en tv-gids.\nhttps://streamradar.soc
 cer/nl/match/5507398/bray-wanderers-vs-treaty-united/
URL;VALUE=URI:https://streamradar.soccer/nl/match/5507398/bray-wanderers-vs
 -treaty-united/
STATUS:CONFIRMED
END:VEVENT
END:VCALENDAR
