BEGIN:VCALENDAR
VERSION:2.0
PRODID:-//StreamRadar//Match Calendar//EN
CALSCALE:GREGORIAN
METHOD:PUBLISH
X-WR-CALNAME:Cobh Ramblers vs UCD
X-WR-TIMEZONE:America/New_York
BEGIN:VEVENT
UID:match-5507388@streamradar.soccer
SUMMARY:Cobh Ramblers vs UCD
DTSTAMP:20260425T115734Z
DTSTART;TZID=America/New_York:20260904T144500
DTEND;TZID=America/New_York:20260904T164500
DESCRIPTION:Waar je Cobh Ramblers vs UCD in League of Ireland Premier Divis
 ion kunt kijken. Livestream en tv-gids.\nhttps://streamradar.soccer/nl/matc
 h/5507388/cobh-ramblers-vs-ucd/
URL;VALUE=URI:https://streamradar.soccer/nl/match/5507388/cobh-ramblers-vs-
 ucd/
STATUS:CONFIRMED
END:VEVENT
END:VCALENDAR
