BEGIN:VCALENDAR
VERSION:2.0
PRODID:-//StreamRadar//Match Calendar//EN
CALSCALE:GREGORIAN
METHOD:PUBLISH
X-WR-CALNAME:Start vs Brann
X-WR-TIMEZONE:America/New_York
BEGIN:VEVENT
UID:match-5506733@streamradar.soccer
SUMMARY:Start vs Brann
DTSTAMP:20260421T095534Z
DTSTART;TZID=America/New_York:20260913T110000
DTEND;TZID=America/New_York:20260913T130000
DESCRIPTION:Waar je Start vs Brann in Noorwegen - Eliteserien kunt kijken. 
 Livestream en tv-gids.\nhttps://streamradar.soccer/nl/match/5506733/start-v
 s-brann/
URL;VALUE=URI:https://streamradar.soccer/nl/match/5506733/start-vs-brann/
STATUS:CONFIRMED
END:VEVENT
END:VCALENDAR
