BEGIN:VCALENDAR
VERSION:2.0
PRODID:-//StreamRadar//Match Calendar//EN
CALSCALE:GREGORIAN
METHOD:PUBLISH
X-WR-CALNAME:Mjällby vs GAIS
X-WR-TIMEZONE:America/New_York
BEGIN:VEVENT
UID:match-5505861@streamradar.soccer
SUMMARY:Mjällby vs GAIS
DTSTAMP:20260425T174343Z
DTSTART;TZID=America/New_York:20260920T090000
DTEND;TZID=America/New_York:20260920T110000
LOCATION:Strandvallen
DESCRIPTION:Waar je Mjällby vs GAIS in Zweden - Allsvenskan kunt kijken. L
 ivestream en tv-gids.\nhttps://streamradar.soccer/nl/match/5505861/mjallby-
 vs-gais/
URL;VALUE=URI:https://streamradar.soccer/nl/match/5505861/mjallby-vs-gais/
STATUS:CONFIRMED
END:VEVENT
END:VCALENDAR
