BEGIN:VCALENDAR
VERSION:2.0
PRODID:-//StreamRadar//Match Calendar//EN
CALSCALE:GREGORIAN
METHOD:PUBLISH
X-WR-CALNAME:Vasco da Gama vs Coritiba
X-WR-TIMEZONE:America/New_York
BEGIN:VEVENT
UID:match-5504569@streamradar.soccer
SUMMARY:Vasco da Gama vs Coritiba
DTSTAMP:20260425T174338Z
DTSTART;TZID=America/New_York:20260920T160000
DTEND;TZID=America/New_York:20260920T180000
DESCRIPTION:Waar je Vasco Da Gama vs Coritiba in Brazilië - Brasileirão k
 unt kijken. Livestream en tv-gids.\nhttps://streamradar.soccer/nl/match/550
 4569/vasco-da-gama-vs-coritiba/
URL;VALUE=URI:https://streamradar.soccer/nl/match/5504569/vasco-da-gama-vs-
 coritiba/
STATUS:CONFIRMED
END:VEVENT
END:VCALENDAR
