BEGIN:VCALENDAR
VERSION:2.0
PRODID:-//StreamRadar//Match Calendar//EN
CALSCALE:GREGORIAN
METHOD:PUBLISH
X-WR-CALNAME:Colorado Rapids vs Dallas
X-WR-TIMEZONE:America/New_York
BEGIN:VEVENT
UID:match-5620941@streamradar.soccer
SUMMARY:Colorado Rapids vs Dallas
DTSTAMP:20260425T115731Z
DTSTART;TZID=America/New_York:20260523T213000
DTEND;TZID=America/New_York:20260523T233000
DESCRIPTION:Dove vedere Colorado Rapids vs Dallas in Major League Soccer. S
 treaming live e programmazione TV.\nhttps://streamradar.soccer/it/match/562
 0941/colorado-rapids-vs-dallas/
URL;VALUE=URI:https://streamradar.soccer/it/match/5620941/colorado-rapids-v
 s-dallas/
STATUS:CONFIRMED
END:VEVENT
END:VCALENDAR
