BEGIN:VCALENDAR
VERSION:2.0
PRODID:-//StreamRadar//Match Calendar//EN
CALSCALE:GREGORIAN
METHOD:PUBLISH
X-WR-CALNAME:Sporting KC vs New York RB
X-WR-TIMEZONE:America/New_York
BEGIN:VEVENT
UID:match-5620940@streamradar.soccer
SUMMARY:Sporting KC vs New York RB
DTSTAMP:20260425T115840Z
DTSTART;TZID=America/New_York:20260523T203000
DTEND;TZID=America/New_York:20260523T223000
DESCRIPTION:Dove vedere Sporting KC vs New York RB in Major League Soccer. 
 Streaming live e programmazione TV.\nhttps://streamradar.soccer/it/match/56
 20940/sporting-kc-vs-new-york-rb/
URL;VALUE=URI:https://streamradar.soccer/it/match/5620940/sporting-kc-vs-ne
 w-york-rb/
STATUS:CONFIRMED
END:VEVENT
END:VCALENDAR
