BEGIN:VCALENDAR
VERSION:2.0
PRODID:-//StreamRadar//Match Calendar//EN
CALSCALE:GREGORIAN
METHOD:PUBLISH
X-WR-CALNAME:Eskişehirspor vs Balıkesirspor
X-WR-TIMEZONE:America/New_York
BEGIN:VEVENT
UID:match-5620204@streamradar.soccer
SUMMARY:Eskişehirspor vs Balıkesirspor
DTSTAMP:20260424T121517Z
DTSTART;TZID=America/New_York:20260428T130000
DTEND;TZID=America/New_York:20260428T150000
LOCATION:Yeni Eskişehir Stadyumu (Eskişehir)
DESCRIPTION:Dove vedere Eskişehirspor vs Balıkesirspor in Turchia - 3. Li
 g. Streaming live e programmazione TV.\nhttps://streamradar.soccer/it/match
 /5620204/eskisehirspor-vs-balkesirspor/
URL;VALUE=URI:https://streamradar.soccer/it/match/5620204/eskisehirspor-vs-
 balkesirspor/
STATUS:CONFIRMED
END:VEVENT
END:VCALENDAR
