BEGIN:VCALENDAR
VERSION:2.0
PRODID:-//StreamRadar//Match Calendar//EN
CALSCALE:GREGORIAN
METHOD:PUBLISH
X-WR-CALNAME:Liverpool U21 vs Crystal Palace U21
X-WR-TIMEZONE:America/New_York
BEGIN:VEVENT
UID:match-5619606@streamradar.soccer
SUMMARY:Liverpool U21 vs Crystal Palace U21
DTSTAMP:20260423T123412Z
DTSTART;TZID=America/New_York:20260426T090000
DTEND;TZID=America/New_York:20260426T110000
LOCATION:Liverpool Academy
DESCRIPTION:Dove vedere Liverpool U-21 vs Crystal Palace U-21 in Inghilterr
 a - Premier League 2. Streaming live e programmazione TV.\nhttps://streamra
 dar.soccer/it/match/5619606/liverpool-u21-vs-crystal-palace-u21/
URL;VALUE=URI:https://streamradar.soccer/it/match/5619606/liverpool-u21-vs-
 crystal-palace-u21/
STATUS:CONFIRMED
END:VEVENT
END:VCALENDAR
