BEGIN:VCALENDAR
VERSION:2.0
PRODID:-//StreamRadar//Match Calendar//EN
CALSCALE:GREGORIAN
METHOD:PUBLISH
X-WR-CALNAME:HIFK vs HPS
X-WR-TIMEZONE:America/New_York
BEGIN:VEVENT
UID:match-5619594@streamradar.soccer
SUMMARY:HIFK vs HPS
DTSTAMP:20260423T141404Z
DTSTART;TZID=America/New_York:20260522T120000
DTEND;TZID=America/New_York:20260522T140000
LOCATION:Toolon Pallokentta
DESCRIPTION:Dove vedere HIFK vs HPS in Finlandia - Kakkonen. Streaming live
  e programmazione TV.\nhttps://streamradar.soccer/it/match/5619594/hifk-vs-
 hps/
URL;VALUE=URI:https://streamradar.soccer/it/match/5619594/hifk-vs-hps/
STATUS:CONFIRMED
END:VEVENT
END:VCALENDAR
