BEGIN:VCALENDAR
VERSION:2.0
PRODID:-//StreamRadar//Match Calendar//EN
CALSCALE:GREGORIAN
METHOD:PUBLISH
X-WR-CALNAME:Real Cartagena vs Unión Magdalena
X-WR-TIMEZONE:America/New_York
BEGIN:VEVENT
UID:match-5619583@streamradar.soccer
SUMMARY:Real Cartagena vs Unión Magdalena
DTSTAMP:20260423T140834Z
DTSTART;TZID=America/New_York:20260508T203000
DTEND;TZID=America/New_York:20260508T223000
DESCRIPTION:Dove vedere Real Cartagena vs Unión Magdalena in Colombia - Pr
 imera B colombiana. Streaming live e programmazione TV.\nhttps://streamrada
 r.soccer/it/match/5619583/real-cartagena-vs-union-magdalena/
URL;VALUE=URI:https://streamradar.soccer/it/match/5619583/real-cartagena-vs
 -union-magdalena/
STATUS:CONFIRMED
END:VEVENT
END:VCALENDAR
