BEGIN:VCALENDAR
VERSION:2.0
PRODID:-//StreamRadar//Match Calendar//EN
CALSCALE:GREGORIAN
METHOD:PUBLISH
X-WR-CALNAME:Deportes Quindío vs Tigres
X-WR-TIMEZONE:America/New_York
BEGIN:VEVENT
UID:match-5619581@streamradar.soccer
SUMMARY:Deportes Quindío vs Tigres
DTSTAMP:20260423T140804Z
DTSTART;TZID=America/New_York:20260504T200000
DTEND;TZID=America/New_York:20260504T220000
LOCATION:Estadio Centenario
DESCRIPTION:Dove vedere Deportes Quindío vs Tigres in Colombia - Primera B
  colombiana. Streaming live e programmazione TV.\nhttps://streamradar.socce
 r/it/match/5619581/deportes-quindio-vs-tigres/
URL;VALUE=URI:https://streamradar.soccer/it/match/5619581/deportes-quindio-
 vs-tigres/
STATUS:CONFIRMED
END:VEVENT
END:VCALENDAR
