BEGIN:VCALENDAR
VERSION:2.0
PRODID:-//StreamRadar//Match Calendar//EN
CALSCALE:GREGORIAN
METHOD:PUBLISH
X-WR-CALNAME:Barranquilla vs Real Cartagena
X-WR-TIMEZONE:America/New_York
BEGIN:VEVENT
UID:match-5619575@streamradar.soccer
SUMMARY:Barranquilla vs Real Cartagena
DTSTAMP:20260423T140012Z
DTSTART;TZID=America/New_York:20260427T203000
DTEND;TZID=America/New_York:20260427T223000
LOCATION:Estadio Romelio Martinez
DESCRIPTION:Dove vedere Barranquilla vs Real Cartagena in Colombia - Primer
 a B colombiana. Streaming live e programmazione TV.\nhttps://streamradar.so
 ccer/it/match/5619575/barranquilla-vs-real-cartagena/
URL;VALUE=URI:https://streamradar.soccer/it/match/5619575/barranquilla-vs-r
 eal-cartagena/
STATUS:CONFIRMED
END:VEVENT
END:VCALENDAR
