BEGIN:VCALENDAR
VERSION:2.0
PRODID:-//StreamRadar//Match Calendar//EN
CALSCALE:GREGORIAN
METHOD:PUBLISH
X-WR-CALNAME:Bogotá vs Unión Magdalena
X-WR-TIMEZONE:America/New_York
BEGIN:VEVENT
UID:match-5619574@streamradar.soccer
SUMMARY:Bogotá vs Unión Magdalena
DTSTAMP:20260423T123415Z
DTSTART;TZID=America/New_York:20260427T180000
DTEND;TZID=America/New_York:20260427T200000
LOCATION:Estadio Metropolitano de Techo
DESCRIPTION:Dove vedere Bogotá vs Unión Magdalena in Colombia - Primera B
  colombiana. Streaming live e programmazione TV.\nhttps://streamradar.socce
 r/it/match/5619574/bogota-vs-union-magdalena/
URL;VALUE=URI:https://streamradar.soccer/it/match/5619574/bogota-vs-union-m
 agdalena/
STATUS:CONFIRMED
END:VEVENT
END:VCALENDAR
