BEGIN:VCALENDAR
VERSION:2.0
PRODID:-//StreamRadar//Match Calendar//EN
CALSCALE:GREGORIAN
METHOD:PUBLISH
X-WR-CALNAME:Tigres vs Internacional Palmira
X-WR-TIMEZONE:America/New_York
BEGIN:VEVENT
UID:match-5619572@streamradar.soccer
SUMMARY:Tigres vs Internacional Palmira
DTSTAMP:20260423T140802Z
DTSTART;TZID=America/New_York:20260424T191000
DTEND;TZID=America/New_York:20260424T211000
LOCATION:Estadio Metropolitano de Techo
DESCRIPTION:Dove vedere Tigres vs Internacional Palmira in Colombia - Prime
 ra B colombiana. Streaming live e programmazione TV.\nhttps://streamradar.s
 occer/it/match/5619572/tigres-vs-internacional-palmira/
URL;VALUE=URI:https://streamradar.soccer/it/match/5619572/tigres-vs-interna
 cional-palmira/
STATUS:CONFIRMED
END:VEVENT
END:VCALENDAR
