BEGIN:VCALENDAR
VERSION:2.0
PRODID:-//StreamRadar//Match Calendar//EN
CALSCALE:GREGORIAN
METHOD:PUBLISH
X-WR-CALNAME:PPJ vs HJS Akatemia
X-WR-TIMEZONE:America/New_York
BEGIN:VEVENT
UID:match-5619560@streamradar.soccer
SUMMARY:PPJ vs HJS Akatemia
DTSTAMP:20260423T140719Z
DTSTART;TZID=America/New_York:20260429T120000
DTEND;TZID=America/New_York:20260429T140000
LOCATION:Väinämöisen kenttä (Helsinki)
DESCRIPTION:Dove vedere PPJ vs HJS Akatemia in Finlandia - Suomen Cup. Stre
 aming live e programmazione TV.\nhttps://streamradar.soccer/it/match/561956
 0/ppj-vs-hjs-akatemia/
URL;VALUE=URI:https://streamradar.soccer/it/match/5619560/ppj-vs-hjs-akatem
 ia/
STATUS:CONFIRMED
END:VEVENT
END:VCALENDAR
