BEGIN:VCALENDAR
VERSION:2.0
PRODID:-//StreamRadar//Match Calendar//EN
CALSCALE:GREGORIAN
METHOD:PUBLISH
X-WR-CALNAME:RoPo vs KPV
X-WR-TIMEZONE:America/New_York
BEGIN:VEVENT
UID:match-5619551@streamradar.soccer
SUMMARY:RoPo vs KPV
DTSTAMP:20260423T140356Z
DTSTART;TZID=America/New_York:20260429T090000
DTEND;TZID=America/New_York:20260429T110000
LOCATION:Rovaniemen Keskuskenttä (Rovaniemi)
DESCRIPTION:Dove vedere RoPo vs KPV in Finlandia - Suomen Cup. Streaming li
 ve e programmazione TV.\nhttps://streamradar.soccer/it/match/5619551/ropo-v
 s-kpv/
URL;VALUE=URI:https://streamradar.soccer/it/match/5619551/ropo-vs-kpv/
STATUS:CONFIRMED
END:VEVENT
END:VCALENDAR
