BEGIN:VCALENDAR
VERSION:2.0
PRODID:-//StreamRadar//Match Calendar//EN
CALSCALE:GREGORIAN
METHOD:PUBLISH
X-WR-CALNAME:Leki vs VPS
X-WR-TIMEZONE:America/New_York
BEGIN:VEVENT
UID:match-5619544@streamradar.soccer
SUMMARY:Leki vs VPS
DTSTAMP:20260423T141129Z
DTSTART;TZID=America/New_York:20260429T090000
DTEND;TZID=America/New_York:20260429T110000
DESCRIPTION:Dove vedere Leki vs VPS in Finlandia - Suomen Cup. Streaming li
 ve e programmazione TV.\nhttps://streamradar.soccer/it/match/5619544/leki-v
 s-vps/
URL;VALUE=URI:https://streamradar.soccer/it/match/5619544/leki-vs-vps/
STATUS:CONFIRMED
END:VEVENT
END:VCALENDAR
