BEGIN:VCALENDAR
VERSION:2.0
PRODID:-//StreamRadar//Match Calendar//EN
CALSCALE:GREGORIAN
METHOD:PUBLISH
X-WR-CALNAME:Arsenal Tula vs Rodina Moskva
X-WR-TIMEZONE:America/New_York
BEGIN:VEVENT
UID:match-5619505@streamradar.soccer
SUMMARY:Arsenal Tula vs Rodina Moskva
DTSTAMP:20260423T211901Z
DTSTART;TZID=America/New_York:20260516T060000
DTEND;TZID=America/New_York:20260516T080000
LOCATION:Stadion Arsenal
DESCRIPTION:Dove vedere Arsenal Tula vs Rodina Moskva in Russia - FNL. Stre
 aming live e programmazione TV.\nhttps://streamradar.soccer/it/match/561950
 5/arsenal-tula-vs-rodina-moskva/
URL;VALUE=URI:https://streamradar.soccer/it/match/5619505/arsenal-tula-vs-r
 odina-moskva/
STATUS:CONFIRMED
END:VEVENT
END:VCALENDAR
