BEGIN:VCALENDAR
VERSION:2.0
PRODID:-//StreamRadar//Match Calendar//EN
CALSCALE:GREGORIAN
METHOD:PUBLISH
X-WR-CALNAME:Shinnik vs Torpedo Moskva
X-WR-TIMEZONE:America/New_York
BEGIN:VEVENT
UID:match-5619502@streamradar.soccer
SUMMARY:Shinnik vs Torpedo Moskva
DTSTAMP:20260424T060228Z
DTSTART;TZID=America/New_York:20260511T100000
DTEND;TZID=America/New_York:20260511T120000
LOCATION:Stadion Shinnik
DESCRIPTION:Dove vedere Shinnik vs Torpedo Moskva in Russia - FNL. Streamin
 g live e programmazione TV.\nhttps://streamradar.soccer/it/match/5619502/sh
 innik-vs-torpedo-moskva/
URL;VALUE=URI:https://streamradar.soccer/it/match/5619502/shinnik-vs-torped
 o-moskva/
STATUS:CONFIRMED
END:VEVENT
END:VCALENDAR
